BEGIN:VCALENDAR
VERSION:2.0
PRODID:icalendar-ruby
CALSCALE:GREGORIAN
METHOD:PUBLISH
BEGIN:VEVENT
DTSTAMP:20260424T191839Z
UID:73-972919@cpchurch.net.au
DTSTART:20261010T230000Z
DTEND:20261011T010000Z
CLASS:PUBLIC
CREATED:20260425T030342
DESCRIPTION:
LAST-MODIFIED:20260425T030342
LOCATION:2 Allied Dr\, Tullamarine VIC 3043
SUMMARY:Church Service - Tullamarine
URL;VALUE=URI:https://www.cpchurch.net.au/events/church-service-tullamarine
 --73/2026-10-11
END:VEVENT
END:VCALENDAR
