BEGIN:VCALENDAR
VERSION:2.0
PRODID:icalendar-ruby
CALSCALE:GREGORIAN
METHOD:PUBLISH
BEGIN:VEVENT
DTSTAMP:20260425T003733Z
UID:73-974224@cpchurch.net.au
DTSTART:20261031T230000Z
DTEND:20261101T010000Z
CLASS:PUBLIC
CREATED:20260425T083808
DESCRIPTION:
LAST-MODIFIED:20260425T083808
LOCATION:2 Allied Dr\, Tullamarine VIC 3043
SUMMARY:Church Service - Tullamarine
URL;VALUE=URI:https://www.cpchurch.net.au/events/church-service-tullamarine
 --73/2026-11-01
END:VEVENT
END:VCALENDAR
