BEGIN:VCALENDAR
VERSION:2.0
PRODID:icalendar-ruby
CALSCALE:GREGORIAN
METHOD:PUBLISH
BEGIN:VEVENT
DTSTAMP:20260425T104941Z
UID:104-975093@cpchurch.net.au
DTSTART:20260828T083000Z
DTEND:20260828T093000Z
CLASS:PUBLIC
CREATED:20260425T112632
DESCRIPTION:Untd Youth
LAST-MODIFIED:20260425T112632
LOCATION:2 allied drive\, tullamarine
SUMMARY:Untd Youth 
URL;VALUE=URI:https://www.cpchurch.net.au/events/untd-youth--104/2026-08-28
END:VEVENT
END:VCALENDAR
