BEGIN:VCALENDAR
VERSION:2.0
PRODID:icalendar-ruby
CALSCALE:GREGORIAN
METHOD:PUBLISH
BEGIN:VEVENT
DTSTAMP:20260425T122946Z
UID:104-975745@cpchurch.net.au
DTSTART:20260904T083000Z
DTEND:20260904T093000Z
CLASS:PUBLIC
CREATED:20260425T211413
DESCRIPTION:Untd Youth
LAST-MODIFIED:20260425T211413
LOCATION:2 allied drive\, tullamarine
SUMMARY:Untd Youth 
URL;VALUE=URI:https://www.cpchurch.net.au/events/untd-youth--104/2026-09-04
END:VEVENT
END:VCALENDAR
