BEGIN:VCALENDAR
VERSION:2.0
PRODID:icalendar-ruby
CALSCALE:GREGORIAN
METHOD:PUBLISH
BEGIN:VEVENT
DTSTAMP:20260425T142643Z
UID:104-976397@cpchurch.net.au
DTSTART:20260911T083000Z
DTEND:20260911T093000Z
CLASS:PUBLIC
CREATED:20260425T235536
DESCRIPTION:Untd Youth
LAST-MODIFIED:20260425T235536
LOCATION:2 allied drive\, tullamarine
SUMMARY:Untd Youth 
URL;VALUE=URI:https://www.cpchurch.net.au/events/untd-youth--104/2026-09-11
END:VEVENT
END:VCALENDAR
