BEGIN:VCALENDAR
VERSION:2.0
PRODID:icalendar-ruby
CALSCALE:GREGORIAN
METHOD:PUBLISH
BEGIN:VEVENT
DTSTAMP:20260425T190911Z
UID:104-977051@cpchurch.net.au
DTSTART:20261002T083000Z
DTEND:20261002T093000Z
CLASS:PUBLIC
CREATED:20260426T023603
DESCRIPTION:Untd Youth
LAST-MODIFIED:20260426T023603
LOCATION:2 allied drive\, tullamarine
SUMMARY:Untd Youth 
URL;VALUE=URI:https://www.cpchurch.net.au/events/untd-youth--104/2026-10-02
END:VEVENT
END:VCALENDAR
