BEGIN:VCALENDAR
VERSION:2.0
PRODID:icalendar-ruby
CALSCALE:GREGORIAN
METHOD:PUBLISH
BEGIN:VEVENT
DTSTAMP:20260425T204735Z
UID:104-977703@cpchurch.net.au
DTSTART:20261009T073000Z
DTEND:20261009T083000Z
CLASS:PUBLIC
CREATED:20260426T051634
DESCRIPTION:Untd Youth
LAST-MODIFIED:20260426T051634
LOCATION:2 allied drive\, tullamarine
SUMMARY:Untd Youth 
URL;VALUE=URI:https://www.cpchurch.net.au/events/untd-youth--104/2026-10-09
END:VEVENT
END:VCALENDAR
