BEGIN:VCALENDAR
VERSION:2.0
PRODID:icalendar-ruby
CALSCALE:GREGORIAN
METHOD:PUBLISH
BEGIN:VEVENT
DTSTAMP:20260425T222154Z
UID:104-978355@cpchurch.net.au
DTSTART:20261016T073000Z
DTEND:20261016T083000Z
CLASS:PUBLIC
CREATED:20260426T075849
DESCRIPTION:Untd Youth
LAST-MODIFIED:20260426T075849
LOCATION:2 allied drive\, tullamarine
SUMMARY:Untd Youth 
URL;VALUE=URI:https://www.cpchurch.net.au/events/untd-youth--104/2026-10-16
END:VEVENT
END:VCALENDAR
