BEGIN:VCALENDAR
VERSION:2.0
PRODID:icalendar-ruby
CALSCALE:GREGORIAN
METHOD:PUBLISH
BEGIN:VEVENT
DTSTAMP:20260426T001105Z
UID:104-978356@cpchurch.net.au
DTSTART:20261023T073000Z
DTEND:20261023T083000Z
CLASS:PUBLIC
CREATED:20260426T075849
DESCRIPTION:Untd Youth
LAST-MODIFIED:20260426T075849
LOCATION:2 allied drive\, tullamarine
SUMMARY:Untd Youth 
URL;VALUE=URI:https://www.cpchurch.net.au/events/untd-youth--104/2026-10-23
END:VEVENT
END:VCALENDAR
