BEGIN:VCALENDAR
VERSION:2.0
PRODID:icalendar-ruby
CALSCALE:GREGORIAN
METHOD:PUBLISH
BEGIN:VEVENT
DTSTAMP:20260426T020848Z
UID:104-979008@cpchurch.net.au
DTSTART:20261030T073000Z
DTEND:20261030T083000Z
CLASS:PUBLIC
CREATED:20260426T104149
DESCRIPTION:Untd Youth
LAST-MODIFIED:20260426T104149
LOCATION:2 allied drive\, tullamarine
SUMMARY:Untd Youth 
URL;VALUE=URI:https://www.cpchurch.net.au/events/untd-youth--104/2026-10-30
END:VEVENT
END:VCALENDAR
