BEGIN:VCALENDAR
VERSION:2.0
PRODID:icalendar-ruby
CALSCALE:GREGORIAN
METHOD:PUBLISH
BEGIN:VEVENT
DTSTAMP:20260426T034036Z
UID:104-979009@cpchurch.net.au
DTSTART:20261106T073000Z
DTEND:20261106T083000Z
CLASS:PUBLIC
CREATED:20260426T104149
DESCRIPTION:Untd Youth
LAST-MODIFIED:20260426T104149
LOCATION:2 allied drive\, tullamarine
SUMMARY:Untd Youth 
URL;VALUE=URI:https://www.cpchurch.net.au/events/untd-youth--104/2026-11-06
END:VEVENT
END:VCALENDAR
